BEGIN:VCALENDAR
VERSION:2.0
CALSCALE:GREGORIAN
BEGIN:VEVENT
DTSTAMP:20260420T142721
DTSTART:20260510T120000
DTEND:20260510T130000
SUMMARY:Mother\'s Day Doughnuts  Mimosas
DESCRIPTION:Event Info: https://www.localwineevents.com/view/event/mothers-day-doughnuts-mimosas/1002803
LOCATION:Bridge Lane Tasting Room -- 35 Cox Neck Road Mattituck, NY 11952
STATUS:CONFIRMED
SEQUENCE:0
TRANSP:OPAQUE
END:VEVENT
END:VCALENDAR
