BEGIN:VCALENDAR
VERSION:2.0
CALSCALE:GREGORIAN
BEGIN:VEVENT
DTSTAMP:20260420T154318
DTSTART:20260510T120000
DTEND:20260510T150000
SUMMARY:LA: Food + History + Design Tour
DESCRIPTION:Event Info: https://www.localwineevents.com/view/event/la-food-history-design-tour/1002802
LOCATION:Union Station -- 800 North Alameda Street Los Angeles, CA 90012
STATUS:CONFIRMED
SEQUENCE:0
TRANSP:OPAQUE
END:VEVENT
END:VCALENDAR
