BEGIN:VCALENDAR
VERSION:2.0
CALSCALE:GREGORIAN
BEGIN:VEVENT
DTSTAMP:20260421T164727
DTSTART:20260510T153000
DTEND:20260510T163000
SUMMARY:Taste  Learn: The Art Of Italian Olive Oil
DESCRIPTION:Event Info: https://www.localwineevents.com/view/event/taste-learn-the-art-of-italian-olive-oil/1002801
LOCATION:Eataly Dallas, La Scuola -- 8687 North Central Expressway Dallas, TX 75225
STATUS:CONFIRMED
SEQUENCE:0
TRANSP:OPAQUE
END:VEVENT
END:VCALENDAR
