BEGIN:VCALENDAR
VERSION:2.0
CALSCALE:GREGORIAN
BEGIN:VEVENT
DTSTAMP:20260420T175609
DTSTART:20260510T123000
DTEND:20260510T130000
SUMMARY:Factory Mini- Tour  Chocolate Tasting
DESCRIPTION:Event Info: https://www.localwineevents.com/view/event/factory-mini--tour-chocolate-tasting/1002799
LOCATION:6492 Mirabel Rd -- 6492 Mirabel Road Forestville, CA 95436
STATUS:CONFIRMED
SEQUENCE:0
TRANSP:OPAQUE
END:VEVENT
END:VCALENDAR
