BEGIN:VCALENDAR
VERSION:2.0
CALSCALE:GREGORIAN
BEGIN:VEVENT
DTSTAMP:20260420T221404
DTSTART:20260510T150000
DTEND:20260510T160000
SUMMARY:Factory Tour  Chocolate Decorating
DESCRIPTION:Event Info: https://www.localwineevents.com/view/event/factory-tour-chocolate-decorating/1002788
LOCATION:6492 Mirabel Rd -- 6492 Mirabel Road Forestville, CA 95436
STATUS:CONFIRMED
SEQUENCE:0
TRANSP:OPAQUE
END:VEVENT
END:VCALENDAR
