BEGIN:VCALENDAR
VERSION:2.0
CALSCALE:GREGORIAN
BEGIN:VEVENT
DTSTAMP:20260421T101047
DTSTART:20260510T103000
DTEND:20260510T123000
SUMMARY:Willows Lodge Mother\'s Day Brunch Buffet 2026
DESCRIPTION:Event Info: https://www.localwineevents.com/view/event/willows-lodge-mothers-day-brunch-buffet-2026/1002784
LOCATION:Willows Lodge -- 14580 Northeast 145th Street Woodinville, WA 98072
STATUS:CONFIRMED
SEQUENCE:0
TRANSP:OPAQUE
END:VEVENT
END:VCALENDAR
