BEGIN:VCALENDAR
VERSION:2.0
CALSCALE:GREGORIAN
BEGIN:VEVENT
DTSTAMP:20260420T142257
DTSTART:20260510T100000
DTEND:20260510T140000
SUMMARY:A Toast To Mom: Mothers Day Brunch At Arts Alley!
DESCRIPTION:Event Info: https://www.localwineevents.com/view/event/a-toast-to-mom-mothers-day-brunch-at-arts-alley/1002783
LOCATION:Arts Alley -- 20 South Main Street Concord, NH 03301
STATUS:CONFIRMED
SEQUENCE:0
TRANSP:OPAQUE
END:VEVENT
END:VCALENDAR
