BEGIN:VCALENDAR
VERSION:2.0
CALSCALE:GREGORIAN
BEGIN:VEVENT
DTSTAMP:20260422T200348
DTSTART:20260510T110000
DTEND:20260510T123000
SUMMARY:Mother\'s Day Brunch At Hotel Eastport
DESCRIPTION:Event Info: https://www.localwineevents.com/view/event/mothers-day-brunch-at-hotel-eastport/1002781
LOCATION:Hotel Eastport -- 7065 Beebe Court Wildwood, FL 34762
STATUS:CONFIRMED
SEQUENCE:0
TRANSP:OPAQUE
END:VEVENT
END:VCALENDAR
