BEGIN:VCALENDAR
VERSION:2.0
CALSCALE:GREGORIAN
BEGIN:VEVENT
DTSTAMP:20260420T133906
DTSTART:20260510T130000
DTEND:20260510T143000
SUMMARY:Mothers Day Cocktail Class
DESCRIPTION:Event Info: https://www.localwineevents.com/view/event/mothers-day-cocktail-class/1002780
LOCATION:tipsy scoop -- 38-15 23rd ave Queens, NY 11105
STATUS:CONFIRMED
SEQUENCE:0
TRANSP:OPAQUE
END:VEVENT
END:VCALENDAR
