BEGIN:VCALENDAR
VERSION:2.0
CALSCALE:GREGORIAN
BEGIN:VEVENT
DTSTAMP:20260424T005906
DTSTART:20260510T120000
DTEND:20260510T133000
SUMMARY:Victorian Afternoon Tea
DESCRIPTION:Event Info: https://www.localwineevents.com/view/event/victorian-afternoon-tea/1002779
LOCATION:Gibson House Museum -- 137 Beacon Street Boston, MA 02116
STATUS:CONFIRMED
SEQUENCE:0
TRANSP:OPAQUE
END:VEVENT
END:VCALENDAR
