BEGIN:VCALENDAR
VERSION:2.0
CALSCALE:GREGORIAN
BEGIN:VEVENT
DTSTAMP:20260420T140624
DTSTART:20260510T110000
DTEND:20260510T130000
SUMMARY:Mother\'s Day Garden Party
DESCRIPTION:Event Info: https://www.localwineevents.com/view/event/mothers-day-garden-party/1002777
LOCATION:Rancho Guejito Vineyard -- 17224 San Pasqual Valley Road Escondido, CA 92027
STATUS:CONFIRMED
SEQUENCE:0
TRANSP:OPAQUE
END:VEVENT
END:VCALENDAR
