BEGIN:VCALENDAR
VERSION:2.0
CALSCALE:GREGORIAN
BEGIN:VEVENT
DTSTAMP:20260423T141656
DTSTART:20260510T120000
DTEND:20260510T143000
SUMMARY:Mother\'s Day Hands-On: Ravioli And Filled Pastas With Brunch Buffet
DESCRIPTION:Event Info: https://www.localwineevents.com/view/event/mothers-day-hands-on-ravioli-and-filled-pastas-with-brunch-buffet/1002775
LOCATION:Eataly Chicago -- 43 East Ohio Street Chicago, IL 60611
STATUS:CONFIRMED
SEQUENCE:0
TRANSP:OPAQUE
END:VEVENT
END:VCALENDAR
