BEGIN:VCALENDAR
VERSION:2.0
CALSCALE:GREGORIAN
BEGIN:VEVENT
DTSTAMP:20260422T163931
DTSTART:20260510T110000
DTEND:20260510T150000
SUMMARY:Mother\'s Day Buffet
DESCRIPTION:Event Info: https://www.localwineevents.com/view/event/mothers-day-buffet/1002770
LOCATION:Hyatt Place Tampa Wesley Chapel -- 26000 Sierra Center Boulevard Lutz, FL 33559
STATUS:CONFIRMED
SEQUENCE:0
TRANSP:OPAQUE
END:VEVENT
END:VCALENDAR
