BEGIN:VCALENDAR
VERSION:2.0
CALSCALE:GREGORIAN
BEGIN:VEVENT
DTSTAMP:20260420T140053
DTSTART:20260510T150000
DTEND:20260510T180000
SUMMARY:Sip  Decorate
DESCRIPTION:Event Info: https://www.localwineevents.com/view/event/sip-decorate/1002763
LOCATION:410 N Eutaw St -- 410 North Eutaw Street Baltimore, MD 21201
STATUS:CONFIRMED
SEQUENCE:0
TRANSP:OPAQUE
END:VEVENT
END:VCALENDAR
