BEGIN:VCALENDAR
VERSION:2.0
CALSCALE:GREGORIAN
BEGIN:VEVENT
DTSTAMP:20260420T140738
DTSTART:20260510T090000
DTEND:20260510T150000
SUMMARY:Stone Mother\'s Day Brunch 2026
DESCRIPTION:Event Info: https://www.localwineevents.com/view/event/stone-mothers-day-brunch-2026/1002761
LOCATION:Stone Brewing World Bistro  Gardens  Escondido -- 1999 Citracado Parkway Escondido, CA 92029
STATUS:CONFIRMED
SEQUENCE:0
TRANSP:OPAQUE
END:VEVENT
END:VCALENDAR
