BEGIN:VCALENDAR
VERSION:2.0
CALSCALE:GREGORIAN
BEGIN:VEVENT
DTSTAMP:20260420T135811
DTSTART:20260510T140000
DTEND:20260510T160000
SUMMARY:Make Perfect Pasta With Chef Bemnet - Pasta Making Cooking Class In Washington, D.C. | Classpop!
DESCRIPTION:Event Info: https://www.localwineevents.com/view/event/make-perfect-pasta-with-chef-bemnet---pasta-making-cooking-class-in-washington-dc-classpop/1002758
LOCATION:DC Brau -- 3178-B Bladensburg Rd NE Washington, DC 20018
STATUS:CONFIRMED
SEQUENCE:0
TRANSP:OPAQUE
END:VEVENT
END:VCALENDAR
