BEGIN:VCALENDAR
VERSION:2.0
CALSCALE:GREGORIAN
BEGIN:VEVENT
DTSTAMP:20260424T010608
DTSTART:20260510T110000
DTEND:20260510T160000
SUMMARY:Mother\'s Day Brunch @ Ya Mas Greek Taverna
DESCRIPTION:Event Info: https://www.localwineevents.com/view/event/mothers-day-brunch-ya-mas-greek-taverna/1002756
LOCATION:Ya Mas Greek Taverna  Bar -- 275 Rockingham Park Boulevard Salem, NH 03079
STATUS:CONFIRMED
SEQUENCE:0
TRANSP:OPAQUE
END:VEVENT
END:VCALENDAR
