BEGIN:VCALENDAR
VERSION:2.0
CALSCALE:GREGORIAN
BEGIN:VEVENT
DTSTAMP:20260421T162958
DTSTART:20260510T130000
DTEND:20260510T150000
SUMMARY:Make Pasta And Pesto From Scratch With Chef Jimmy At A Local Brewery - Pasta Making Cooking Class In Portland | Classpop!
DESCRIPTION:Event Info: https://www.localwineevents.com/view/event/make-pasta-and-pesto-from-scratch-with-chef-jimmy-at-a-local-brewery---pasta-making-cooking-class-in-portland-classpop/1002755
LOCATION:Threshold Brewing -- 403 SE 79th Ave, Portland, Oregon 97215 Portland, OR 97204
STATUS:CONFIRMED
SEQUENCE:0
TRANSP:OPAQUE
END:VEVENT
END:VCALENDAR
