BEGIN:VCALENDAR
VERSION:2.0
CALSCALE:GREGORIAN
BEGIN:VEVENT
DTSTAMP:20260423T140011
DTSTART:20260510T120000
DTEND:20260510T160000
SUMMARY:Mother\'s Day Raclette For Lunch @ South Hill Cider!
DESCRIPTION:Event Info: https://www.localwineevents.com/view/event/mothers-day-raclette-for-lunch-south-hill-cider/1002754
LOCATION:South Hill Cider -- 550 Sandbank Road Ithaca, NY 14850
STATUS:CONFIRMED
SEQUENCE:0
TRANSP:OPAQUE
END:VEVENT
END:VCALENDAR
