BEGIN:VCALENDAR
VERSION:2.0
CALSCALE:GREGORIAN
BEGIN:VEVENT
DTSTAMP:20260421T141947
DTSTART:20260510T130000
DTEND:20260510T150000
SUMMARY:Modern California Sushi Poke Bowl - Sushi Making Cooking Class In Columbus | Classpop!
DESCRIPTION:Event Info: https://www.localwineevents.com/view/event/modern-california-sushi-poke-bowl---sushi-making-cooking-class-in-columbus-classpop/1002753
LOCATION:Good Vibes Winery -- 2 S State St, Westerville Columbus, OH 43081
STATUS:CONFIRMED
SEQUENCE:0
TRANSP:OPAQUE
END:VEVENT
END:VCALENDAR
