BEGIN:VCALENDAR
VERSION:2.0
CALSCALE:GREGORIAN
BEGIN:VEVENT
DTSTAMP:20260421T164224
DTSTART:20260510T130000
DTEND:20260510T150000
SUMMARY:Mom\'s  Mimosas
DESCRIPTION:Event Info: https://www.localwineevents.com/view/event/moms-mimosas/1002752
LOCATION:Barons Creek Vineyards Tasting Room Dallas -- 418 North Bishop Avenue Dallas, TX 75208
STATUS:CONFIRMED
SEQUENCE:0
TRANSP:OPAQUE
END:VEVENT
END:VCALENDAR
