BEGIN:VCALENDAR
VERSION:2.0
CALSCALE:GREGORIAN
BEGIN:VEVENT
DTSTAMP:20260420T154430
DTSTART:20260510T123000
DTEND:20260510T153000
SUMMARY:Mothers Day Lunch Pasta Making  Dance (LA Tour)
DESCRIPTION:Event Info: https://www.localwineevents.com/view/event/mothers-day-lunch-pasta-making-dance-la-tour/1002751
LOCATION:Harmony Dance Studio -- 539 South Rampart Boulevard Los Angeles, CA 90057
STATUS:CONFIRMED
SEQUENCE:0
TRANSP:OPAQUE
END:VEVENT
END:VCALENDAR
