BEGIN:VCALENDAR
VERSION:2.0
CALSCALE:GREGORIAN
BEGIN:VEVENT
DTSTAMP:20260420T182848
DTSTART:20260510T100000
DTEND:20260510T143000
SUMMARY:Mother\'s Day Brunch At The Hayes Mansion
DESCRIPTION:Event Info: https://www.localwineevents.com/view/event/mothers-day-brunch-at-the-hayes-mansion/1002750
LOCATION:Hayes Mansion San Jose, Curio Collection by Hilton -- 200 Edenvale Avenue San Jose, CA 95136
STATUS:CONFIRMED
SEQUENCE:0
TRANSP:OPAQUE
END:VEVENT
END:VCALENDAR
