BEGIN:VCALENDAR
VERSION:2.0
CALSCALE:GREGORIAN
BEGIN:VEVENT
DTSTAMP:20260420T140658
DTSTART:20260510T173000
DTEND:20260510T190000
SUMMARY:Mother\'s Day Cheese Board Building
DESCRIPTION:Event Info: https://www.localwineevents.com/view/event/mothers-day-cheese-board-building/1002749
LOCATION:Sissle  Daughters Cheesemongers and Grocers -- 107 Washington Avenue Portland, ME 04101
STATUS:CONFIRMED
SEQUENCE:0
TRANSP:OPAQUE
END:VEVENT
END:VCALENDAR
