BEGIN:VCALENDAR
VERSION:2.0
CALSCALE:GREGORIAN
BEGIN:VEVENT
DTSTAMP:20260420T144605
DTSTART:20260510T120000
DTEND:20260510T160000
SUMMARY:Sip Bloom  Brunch.  Mother\'s Day At Vin En Noir.
DESCRIPTION:Event Info: https://www.localwineevents.com/view/event/sip-bloom-brunch-mothers-day-at-vin-en-noir/1002748
LOCATION:Vin En Noir -- 1001 Caymus Street Napa, CA 94559
STATUS:CONFIRMED
SEQUENCE:0
TRANSP:OPAQUE
END:VEVENT
END:VCALENDAR
