BEGIN:VCALENDAR
VERSION:2.0
CALSCALE:GREGORIAN
BEGIN:VEVENT
DTSTAMP:20260421T162959
DTSTART:20260510T100000
DTEND:20260510T120000
SUMMARY:Mother\'s Day Brunch At Abbey Road Farm
DESCRIPTION:Event Info: https://www.localwineevents.com/view/event/mothers-day-brunch-at-abbey-road-farm/1002747
LOCATION:Abbey Road Farm -- 10501 Northeast Abbey Road Carlton, OR 97111
STATUS:CONFIRMED
SEQUENCE:0
TRANSP:OPAQUE
END:VEVENT
END:VCALENDAR
