BEGIN:VCALENDAR
VERSION:2.0
CALSCALE:GREGORIAN
BEGIN:VEVENT
DTSTAMP:20260420T144534
DTSTART:20260510T110000
DTEND:20260510T140000
SUMMARY:Mother\'s Day Brunch At Scribner Bend Vineyards In Sacramento
DESCRIPTION:Event Info: https://www.localwineevents.com/view/event/mothers-day-brunch-at-scribner-bend-vineyards-in-sacramento/1002745
LOCATION:Scribner Bend Vineyards -- 9051 River Rd Sacramento, CA 95832
STATUS:CONFIRMED
SEQUENCE:0
TRANSP:OPAQUE
END:VEVENT
END:VCALENDAR
