BEGIN:VCALENDAR
VERSION:2.0
CALSCALE:GREGORIAN
BEGIN:VEVENT
DTSTAMP:20260420T174349
DTSTART:20260510T120000
DTEND:20260510T150000
SUMMARY:Mother\'s Day Pasta Making
DESCRIPTION:Event Info: https://www.localwineevents.com/view/event/mothers-day-pasta-making/1002744
LOCATION:Calandrino\'s Old City Vino -- 110 North 2nd Street Philadelphia, PA 19106
STATUS:CONFIRMED
SEQUENCE:0
TRANSP:OPAQUE
END:VEVENT
END:VCALENDAR
