BEGIN:VCALENDAR
VERSION:2.0
CALSCALE:GREGORIAN
BEGIN:VEVENT
DTSTAMP:20260420T133912
DTSTART:20260510T113000
DTEND:20260510T133000
SUMMARY:Mother\'s Day At Robibero Winery!
DESCRIPTION:Event Info: https://www.localwineevents.com/view/event/mothers-day-at-robibero-winery/1002743
LOCATION:Robibero Winery -- 714 Albany Post Road New Paltz, NY 12561
STATUS:CONFIRMED
SEQUENCE:0
TRANSP:OPAQUE
END:VEVENT
END:VCALENDAR
