BEGIN:VCALENDAR
VERSION:2.0
CALSCALE:GREGORIAN
BEGIN:VEVENT
DTSTAMP:20260420T174401
DTSTART:20260510T100000
DTEND:20260510T120000
SUMMARY:Mother\'s Day Brunch At Corteau Vineyards
DESCRIPTION:Event Info: https://www.localwineevents.com/view/event/mothers-day-brunch-at-corteau-vineyards/1002740
LOCATION:38713 Golden Beach Rd -- 38713 Golden Beach Road Mechanicsville, MD 20659
STATUS:CONFIRMED
SEQUENCE:0
TRANSP:OPAQUE
END:VEVENT
END:VCALENDAR
