BEGIN:VCALENDAR
VERSION:2.0
CALSCALE:GREGORIAN
BEGIN:VEVENT
DTSTAMP:20260420T154404
DTSTART:20260510T143000
DTEND:20260510T160000
SUMMARY:Mother\'s Day Cheese Board Workshop
DESCRIPTION:Event Info: https://www.localwineevents.com/view/event/mothers-day-cheese-board-workshop/1002739
LOCATION:Neighbors  Friends -- 88 Union Street Pasadena, CA 91103
STATUS:CONFIRMED
SEQUENCE:0
TRANSP:OPAQUE
END:VEVENT
END:VCALENDAR
