BEGIN:VCALENDAR
VERSION:2.0
CALSCALE:GREGORIAN
BEGIN:VEVENT
DTSTAMP:20260420T170658
DTSTART:20260510T100000
DTEND:20260510T123000
SUMMARY:Blend Your Own Bottle Of Wine
DESCRIPTION:Event Info: https://www.localwineevents.com/view/event/blend-your-own-bottle-of-wine/1002736
LOCATION:Meadowcroft Wines -- 23574 Arnold Drive Sonoma, CA 95476
STATUS:CONFIRMED
SEQUENCE:0
TRANSP:OPAQUE
END:VEVENT
END:VCALENDAR
