BEGIN:VCALENDAR
VERSION:2.0
CALSCALE:GREGORIAN
BEGIN:VEVENT
DTSTAMP:20260420T143744
DTSTART:20260510T130000
DTEND:20260510T150000
SUMMARY:Mother\'s Day Afternoon Tea
DESCRIPTION:Event Info: https://www.localwineevents.com/view/event/mothers-day-afternoon-tea/1002735
LOCATION:AC Hotel Sacramento -- 905 7th Street Sacramento, CA 95814
STATUS:CONFIRMED
SEQUENCE:0
TRANSP:OPAQUE
END:VEVENT
END:VCALENDAR
