BEGIN:VCALENDAR
VERSION:2.0
CALSCALE:GREGORIAN
BEGIN:VEVENT
DTSTAMP:20260420T143745
DTSTART:20260510T173000
DTEND:20260510T203000
SUMMARY:Mothers Day Dinner Pasta Making  Dance (Sacramento)
DESCRIPTION:Event Info: https://www.localwineevents.com/view/event/mothers-day-dinner-pasta-making-dance-sacramento/1002733
LOCATION:Chef Dance Studio 18 -- 1501 El Camino Avenue Sacramento, CA 95815
STATUS:CONFIRMED
SEQUENCE:0
TRANSP:OPAQUE
END:VEVENT
END:VCALENDAR
