BEGIN:VCALENDAR
VERSION:2.0
CALSCALE:GREGORIAN
BEGIN:VEVENT
DTSTAMP:20260421T163957
DTSTART:20260510T140000
DTEND:20260510T150000
SUMMARY:Mothers Day Charcuterie Board Workshop
DESCRIPTION:Event Info: https://www.localwineevents.com/view/event/mothers-day-charcuterie-board-workshop/1002730
LOCATION:Salute Wine Bar -- 212 Carroll Street Fort Worth, TX 76107
STATUS:CONFIRMED
SEQUENCE:0
TRANSP:OPAQUE
END:VEVENT
END:VCALENDAR
