BEGIN:VCALENDAR
VERSION:2.0
CALSCALE:GREGORIAN
BEGIN:VEVENT
DTSTAMP:20260420T144606
DTSTART:20260510T140000
DTEND:20260510T170000
SUMMARY:SIP 2nd Sundays - Mothers Day Wine Tasting  Jazz
DESCRIPTION:Event Info: https://www.localwineevents.com/view/event/sip-2nd-sundays---mothers-day-wine-tasting-jazz/1002728
LOCATION:Dle Vino, Marina Boulevard Suite C, Pittsburg, CA, USA -- 51 Marina Boulevard Pittsburg, CA 94565
STATUS:CONFIRMED
SEQUENCE:0
TRANSP:OPAQUE
END:VEVENT
END:VCALENDAR
