BEGIN:VCALENDAR
VERSION:2.0
CALSCALE:GREGORIAN
BEGIN:VEVENT
DTSTAMP:20260421T004226
DTSTART:20260510T190000
DTEND:20260510T213000
SUMMARY:Mother\'s Day Steak Dinner With Live Music
DESCRIPTION:Event Info: https://www.localwineevents.com/view/event/mothers-day-steak-dinner-with-live-music/1002727
LOCATION:Mathis House a Victorian Bed  Breakfast and Tea Room -- 600 Main Street Toms River, NJ 08753
STATUS:CONFIRMED
SEQUENCE:0
TRANSP:OPAQUE
END:VEVENT
END:VCALENDAR
