BEGIN:VCALENDAR
VERSION:2.0
CALSCALE:GREGORIAN
BEGIN:VEVENT
DTSTAMP:20260420T133929
DTSTART:20260510T103000
DTEND:20260510T123000
SUMMARY:Harbor Links\' Mother\'s Day Brunch With A View
DESCRIPTION:Event Info: https://www.localwineevents.com/view/event/harbor-links-mothers-day-brunch-with-a-view/1002725
LOCATION:Harbor Links Golf Course -- 1 West Fairway Drive Port Washington, NY 11050
STATUS:CONFIRMED
SEQUENCE:0
TRANSP:OPAQUE
END:VEVENT
END:VCALENDAR
