BEGIN:VCALENDAR
VERSION:2.0
CALSCALE:GREGORIAN
BEGIN:VEVENT
DTSTAMP:20260421T163955
DTSTART:20260510T143000
DTEND:20260510T170000
SUMMARY:Taste Of Guadalajara: Mother\'s Day
DESCRIPTION:Event Info: https://www.localwineevents.com/view/event/taste-of-guadalajara-mothers-day/1002723
LOCATION:La Chingona -- 2800 Bledsoe Street Fort Worth, TX 76107
STATUS:CONFIRMED
SEQUENCE:0
TRANSP:OPAQUE
END:VEVENT
END:VCALENDAR
