BEGIN:VCALENDAR
VERSION:2.0
CALSCALE:GREGORIAN
BEGIN:VEVENT
DTSTAMP:20260421T100944
DTSTART:20260510T180000
DTEND:20260510T200000
SUMMARY:Make Dubai Chocolate Bars With Chef Tissany At A Trendy Georgetown Brewery - Cooking Class In Seattle | Classpop!
DESCRIPTION:Event Info: https://www.localwineevents.com/view/event/make-dubai-chocolate-bars-with-chef-tissany-at-a-trendy-georgetown-brewery---cooking-class-in-seattle-classpop/1002722
LOCATION:Great Notion| Georgetown -- 6235 Airport Way S.,  Suite 102 Seattle, WA 98108
STATUS:CONFIRMED
SEQUENCE:0
TRANSP:OPAQUE
END:VEVENT
END:VCALENDAR
