BEGIN:VCALENDAR
VERSION:2.0
CALSCALE:GREGORIAN
BEGIN:VEVENT
DTSTAMP:20260420T133929
DTSTART:20260510T140000
DTEND:20260510T153000
SUMMARY:Mother\'s Day Cheese  Rose Wine Tasting
DESCRIPTION:Event Info: https://www.localwineevents.com/view/event/mothers-day-cheese-rose-wine-tasting/1002720
LOCATION:Murray\'s Cheese Shop -- 254 Bleecker Street New York, NY 10014
STATUS:CONFIRMED
SEQUENCE:0
TRANSP:OPAQUE
END:VEVENT
END:VCALENDAR
