BEGIN:VCALENDAR
VERSION:2.0
CALSCALE:GREGORIAN
BEGIN:VEVENT
DTSTAMP:20260420T173539
DTSTART:20260510T170000
DTEND:20260510T200000
SUMMARY:Make Pasta With Mom!
DESCRIPTION:Event Info: https://www.localwineevents.com/view/event/make-pasta-with-mom/1002719
LOCATION:Good Spirit Farm -- 35113 Snickersville Turnpike Round Hill, VA 20141
STATUS:CONFIRMED
SEQUENCE:0
TRANSP:OPAQUE
END:VEVENT
END:VCALENDAR
