BEGIN:VCALENDAR
VERSION:2.0
CALSCALE:GREGORIAN
BEGIN:VEVENT
DTSTAMP:20260420T140656
DTSTART:20260510T160000
DTEND:20260510T173000
SUMMARY:Mother\'s Day Sparkling Wine Tasting
DESCRIPTION:Event Info: https://www.localwineevents.com/view/event/mothers-day-sparkling-wine-tasting/1002716
LOCATION:Hill\'s Kitchen -- 713 D Street Southeast Washington, DC 20003
STATUS:CONFIRMED
SEQUENCE:0
TRANSP:OPAQUE
END:VEVENT
END:VCALENDAR
