BEGIN:VCALENDAR
VERSION:2.0
CALSCALE:GREGORIAN
BEGIN:VEVENT
DTSTAMP:20260420T174456
DTSTART:20260510T113000
DTEND:20260510T173000
SUMMARY:Mother\'s Day Wine And Cupcake Pairing At Bishop Estate
DESCRIPTION:Event Info: https://www.localwineevents.com/view/event/mothers-day-wine-and-cupcake-pairing-at-bishop-estate/1002714
LOCATION:Bishop Estate Vineyard and Winery -- 2730 Hilltown Pike Perkasie, PA 18944
STATUS:CONFIRMED
SEQUENCE:0
TRANSP:OPAQUE
END:VEVENT
END:VCALENDAR
