BEGIN:VCALENDAR
VERSION:2.0
CALSCALE:GREGORIAN
BEGIN:VEVENT
DTSTAMP:20260421T101057
DTSTART:20260510T150000
DTEND:20260510T170000
SUMMARY:Mothers Day Wax  Wine: Candle Making Class  Wine Tasting Experience
DESCRIPTION:Event Info: https://www.localwineevents.com/view/event/mothers-day-wax-wine-candle-making-class-wine-tasting-experience/1002712
LOCATION:Drum Roll Wine -- 911 South 3rd Street Renton, WA 98057
STATUS:CONFIRMED
SEQUENCE:0
TRANSP:OPAQUE
END:VEVENT
END:VCALENDAR
