BEGIN:VCALENDAR
VERSION:2.0
CALSCALE:GREGORIAN
BEGIN:VEVENT
DTSTAMP:20260423T140011
DTSTART:20260510T120000
DTEND:20260510T130000
SUMMARY:Mother\'s Day Wine Tasting
DESCRIPTION:Event Info: https://www.localwineevents.com/view/event/mothers-day-wine-tasting/1002711
LOCATION:Passages Wine and Books -- 1911 West Chicago Avenue Chicago, IL 60622
STATUS:CONFIRMED
SEQUENCE:0
TRANSP:OPAQUE
END:VEVENT
END:VCALENDAR
