BEGIN:VCALENDAR
VERSION:2.0
CALSCALE:GREGORIAN
BEGIN:VEVENT
DTSTAMP:20260420T140647
DTSTART:20260510T110000
DTEND:20260510T130000
SUMMARY:Mother\'s Day Brunch At Forgotten Barrel Winery
DESCRIPTION:Event Info: https://www.localwineevents.com/view/event/mothers-day-brunch-at-forgotten-barrel-winery/1002708
LOCATION:1120 W 15th Ave -- 1120 West 15th Avenue Escondido, CA 92025
STATUS:CONFIRMED
SEQUENCE:0
TRANSP:OPAQUE
END:VEVENT
END:VCALENDAR
