BEGIN:VCALENDAR
VERSION:2.0
CALSCALE:GREGORIAN
BEGIN:VEVENT
DTSTAMP:20260423T215221
DTSTART:20260510T110000
DTEND:20260510T140000
SUMMARY:5th Annual Mothers Day Brunch 2026 At 1620 Winery
DESCRIPTION:Event Info: https://www.localwineevents.com/view/event/5th-annual-mothers-day-brunch-2026-at-1620-winery/1002703
LOCATION:1620 Winery @ Cordage Park -- 55 Cordage Park Circle Plymouth, MA 02360
STATUS:CONFIRMED
SEQUENCE:0
TRANSP:OPAQUE
END:VEVENT
END:VCALENDAR
