BEGIN:VCALENDAR
VERSION:2.0
CALSCALE:GREGORIAN
BEGIN:VEVENT
DTSTAMP:20260423T220237
DTSTART:20260510T130000
DTEND:20260510T180000
SUMMARY:Mother\'s Day + Macarons Wine Flight Pairing
DESCRIPTION:Event Info: https://www.localwineevents.com/view/event/mothers-day-macarons-wine-flight-pairing/1002701
LOCATION:Coastal Bubbles + Wine Bar -- 1 Johnny Cake Hill New Bedford, MA 02740
STATUS:CONFIRMED
SEQUENCE:0
TRANSP:OPAQUE
END:VEVENT
END:VCALENDAR
