BEGIN:VCALENDAR
VERSION:2.0
CALSCALE:GREGORIAN
BEGIN:VEVENT
DTSTAMP:20260420T154431
DTSTART:20260510T130000
DTEND:20260510T150000
SUMMARY:Wine, Cheese And Charcuterie Of Spain | Cheese Store Of BH: May 10th
DESCRIPTION:Event Info: https://www.localwineevents.com/view/event/wine-cheese-and-charcuterie-of-spain-cheese-store-of-bh-may-10th/1002700
LOCATION:The Cheese Store of Beverly Hills -- 9705 South Santa Monica Boulevard Beverly Hills, CA 90210
STATUS:CONFIRMED
SEQUENCE:0
TRANSP:OPAQUE
END:VEVENT
END:VCALENDAR
